BEGIN:VCALENDAR
VERSION:2.0
PRODID:-//dieBasis SV Bielefeld - ECPv6.15.20//NONSGML v1.0//EN
CALSCALE:GREGORIAN
METHOD:PUBLISH
X-ORIGINAL-URL:https://bielefeld.diebasis.nrw
X-WR-CALDESC:Veranstaltungen für dieBasis SV Bielefeld
REFRESH-INTERVAL;VALUE=DURATION:PT1H
X-Robots-Tag:noindex
X-PUBLISHED-TTL:PT1H
BEGIN:VTIMEZONE
TZID:Europe/Berlin
BEGIN:DAYLIGHT
TZOFFSETFROM:+0100
TZOFFSETTO:+0200
TZNAME:CEST
DTSTART:20210328T010000
END:DAYLIGHT
BEGIN:STANDARD
TZOFFSETFROM:+0200
TZOFFSETTO:+0100
TZNAME:CET
DTSTART:20211031T010000
END:STANDARD
BEGIN:DAYLIGHT
TZOFFSETFROM:+0100
TZOFFSETTO:+0200
TZNAME:CEST
DTSTART:20220327T010000
END:DAYLIGHT
BEGIN:STANDARD
TZOFFSETFROM:+0200
TZOFFSETTO:+0100
TZNAME:CET
DTSTART:20221030T010000
END:STANDARD
BEGIN:DAYLIGHT
TZOFFSETFROM:+0100
TZOFFSETTO:+0200
TZNAME:CEST
DTSTART:20230326T010000
END:DAYLIGHT
BEGIN:STANDARD
TZOFFSETFROM:+0200
TZOFFSETTO:+0100
TZNAME:CET
DTSTART:20231029T010000
END:STANDARD
END:VTIMEZONE
BEGIN:VEVENT
DTSTART;TZID=Europe/Berlin:20221208T180000
DTEND;TZID=Europe/Berlin:20221208T210000
DTSTAMP:20260422T145226
CREATED:20220927T193157Z
LAST-MODIFIED:20221027T185314Z
UID:951-1670522400-1670533200@bielefeld.diebasis.nrw
SUMMARY:Stammtisch SV Bielefeld
DESCRIPTION:Hier kannst Du Dich mit anderen Menschen austauschen und vernetzen. Auf Stammtischen gibt es keine festen Themen. \n\nOrt: Restaurant Kreta\, Goldstr. 10\, 33602 Bielefeld\nGäste sind willkommen.\nEine Anmeldung ist nicht erforderlich.\nKontakt: bielefeld@diebasis.nrw
URL:https://bielefeld.diebasis.nrw/event2/stammtisch-sv-bielefeld-9/
LOCATION:Restaurant La Trattoria\, Goldstraße 10\, Bielefeld\, 33602
CATEGORIES:Stammtisch
ATTACH;FMTTYPE=image/jpeg:https://bielefeld.diebasis.nrw/wp-content/uploads/2022/08/beers-g669c6ee3d_1920.jpeg
END:VEVENT
BEGIN:VEVENT
DTSTART;TZID=Europe/Berlin:20221210T150000
DTEND;TZID=Europe/Berlin:20221210T180000
DTSTAMP:20260422T145226
CREATED:20220927T191959Z
LAST-MODIFIED:20220927T192055Z
UID:934-1670684400-1670695200@bielefeld.diebasis.nrw
SUMMARY:Schwarmtreffen
DESCRIPTION:Auf diesen Treffen bearbeiten wir parteipolitische Themen. Hier kannst Du Deine politischen Anliegen in den Schwarm tragen. \n\nOrt: Auf Anfrage\nGäste sind willkommen.\nEine Anmeldung ist nicht erforderlich.\nKontakt: bielefeld@diebasis.nrw
URL:https://bielefeld.diebasis.nrw/event2/schwarmtreffen-7/
CATEGORIES:Schwarmtreffen
ATTACH;FMTTYPE=image/jpeg:https://bielefeld.diebasis.nrw/wp-content/uploads/2022/08/wildlife-g684971c9e_1920.jpeg
END:VEVENT
END:VCALENDAR